BEGIN:VCALENDAR
VERSION:2.0
PRODID:-//wp-events-plugin.com//7.2.3.1//EN
TZID:Europe/Berlin
X-WR-TIMEZONE:Europe/Berlin
BEGIN:VEVENT
UID:26@strukturierteanalysedeutschland.de
DTSTART;TZID=Europe/Berlin:20250905T000000
DTEND;TZID=Europe/Berlin:20250926T235900
DTSTAMP:20250612T094418Z
URL:https://strukturierteanalysedeutschland.de/en/events/grundlagentrainin
 g-strukturierte-analyse-3/
SUMMARY:Grundlagentraining Strukturierte Analyse
DESCRIPTION:\n\n\n\n\n\n\n\n\n\nDas Grundlagentraining richtet sich an Anal
 ystinnen und Analysten sowie deren Vorgesetzte aus den Bereichen Militär\
 , Strafverfolgung\, Nachrichtendienste\, Informationssicherheit\, Cybersic
 herheit\, Reisesicherheit\, Fraud\, Finanzen und Corporate Security. Hierb
 ei ist der Kurs so gestaltet\, dass sowohl erfahrene Expertinnen und Exper
 ten als auch Anfängerinnen und Anfänger von den Inhalten profitieren.\n\
 nVeranstalter: Strukturierte Analyse Deutschland\n\nBuchbar unter: GSA - S
 trukturierte Analyse Deutschland\n\n\n\n\n\n\n\n\n\n
ATTACH;FMTTYPE=image/jpeg:https://strukturierteanalysedeutschland.de/wp-co
 ntent/uploads/2023/03/Intelligence-Fundamentals.jpg
LOCATION:https://strukturierteanalysedeutschland.de/gsa/
END:VEVENT
BEGIN:VTIMEZONE
TZID:Europe/Berlin
X-LIC-LOCATION:Europe/Berlin
BEGIN:DAYLIGHT
DTSTART:20250330T030000
TZOFFSETFROM:+0100
TZOFFSETTO:+0200
TZNAME:CEST
END:DAYLIGHT
END:VTIMEZONE
END:VCALENDAR